BEGIN:VCALENDAR
VERSION:2.0
PRODID:-//FTF.PF - ECPv5.7.0//NONSGML v1.0//EN
CALSCALE:GREGORIAN
METHOD:PUBLISH
X-WR-CALNAME:FTF.PF
X-ORIGINAL-URL:https://www.ftf.pf
X-WR-CALDESC:évènements pour FTF.PF
BEGIN:VTIMEZONE
TZID:Pacific/Honolulu
BEGIN:STANDARD
TZOFFSETFROM:-1000
TZOFFSETTO:-1000
TZNAME:HST
DTSTART:20210101T000000
END:STANDARD
END:VTIMEZONE
BEGIN:VEVENT
DTSTART;TZID=Pacific/Honolulu:20210410T080000
DTEND;TZID=Pacific/Honolulu:20210425T170000
DTSTAMP:20210829T012512
CREATED:20200908T203436Z
LAST-MODIFIED:20200908T203436Z
UID:27768-1618041600-1619370000@www.ftf.pf
SUMMARY:Tournoi OFC U-17 Fiji
DESCRIPTION:
URL:https://www.ftf.pf/event/tournoi-ofc-u-17-fiji/
END:VEVENT
END:VCALENDAR